BEGIN:VCALENDAR
VERSION:2.0
PRODID:-//SCDA - ECPv6.15.20//NONSGML v1.0//EN
CALSCALE:GREGORIAN
METHOD:PUBLISH
X-WR-CALNAME:SCDA
X-ORIGINAL-URL:https://scda1.com
X-WR-CALDESC:Events for SCDA
REFRESH-INTERVAL;VALUE=DURATION:PT1H
X-Robots-Tag:noindex
X-PUBLISHED-TTL:PT1H
BEGIN:VTIMEZONE
TZID:America/New_York
BEGIN:DAYLIGHT
TZOFFSETFROM:-0500
TZOFFSETTO:-0400
TZNAME:EDT
DTSTART:20250309T070000
END:DAYLIGHT
BEGIN:STANDARD
TZOFFSETFROM:-0400
TZOFFSETTO:-0500
TZNAME:EST
DTSTART:20251102T060000
END:STANDARD
BEGIN:DAYLIGHT
TZOFFSETFROM:-0500
TZOFFSETTO:-0400
TZNAME:EDT
DTSTART:20260308T070000
END:DAYLIGHT
BEGIN:STANDARD
TZOFFSETFROM:-0400
TZOFFSETTO:-0500
TZNAME:EST
DTSTART:20261101T060000
END:STANDARD
BEGIN:DAYLIGHT
TZOFFSETFROM:-0500
TZOFFSETTO:-0400
TZNAME:EDT
DTSTART:20270314T070000
END:DAYLIGHT
BEGIN:STANDARD
TZOFFSETFROM:-0400
TZOFFSETTO:-0500
TZNAME:EST
DTSTART:20271107T060000
END:STANDARD
END:VTIMEZONE
BEGIN:VEVENT
DTSTART;VALUE=DATE:20260914
DTEND;VALUE=DATE:20260915
DTSTAMP:20260422T051552
CREATED:20251129T191715Z
LAST-MODIFIED:20251129T191810Z
UID:10000392-1789344000-1789430399@scda1.com
SUMMARY:SCDA- Club Motorsports- Track Day Event- September 14\, 2026
DESCRIPTION:CLUB MOTORSPORT \nOpen to ALL experience drivers \n$50 discount Porsche/Audi/VW drivers
URL:https://scda1.com/event/scda-club-motorsports-track-day-event-september-14-2026/
LOCATION:Club Motorsports\, 780 Ossipee Mountain Highway\, Tamworth\, NH\, 03886\, United States
ATTACH;FMTTYPE=image/jpeg:https://scda1.com/wp-content/uploads/2025/11/9-14-26-Club.jpg
ORGANIZER;CN="SCDA":MAILTO:info@scda1.com
END:VEVENT
END:VCALENDAR